BEGIN:VCALENDAR
VERSION:2.0
PRODID:-//Classic Motorcycle Club of Victoria Inc. - ECPv6.15.20//NONSGML v1.0//EN
CALSCALE:GREGORIAN
METHOD:PUBLISH
X-ORIGINAL-URL:https://cmccv.org.au
X-WR-CALDESC:Events for Classic Motorcycle Club of Victoria Inc.
REFRESH-INTERVAL;VALUE=DURATION:PT1H
X-Robots-Tag:noindex
X-PUBLISHED-TTL:PT1H
BEGIN:VTIMEZONE
TZID:Australia/Melbourne
BEGIN:STANDARD
TZOFFSETFROM:+1100
TZOFFSETTO:+1000
TZNAME:AEST
DTSTART:20230401T160000
END:STANDARD
BEGIN:DAYLIGHT
TZOFFSETFROM:+1000
TZOFFSETTO:+1100
TZNAME:AEDT
DTSTART:20230930T160000
END:DAYLIGHT
BEGIN:STANDARD
TZOFFSETFROM:+1100
TZOFFSETTO:+1000
TZNAME:AEST
DTSTART:20240406T160000
END:STANDARD
BEGIN:DAYLIGHT
TZOFFSETFROM:+1000
TZOFFSETTO:+1100
TZNAME:AEDT
DTSTART:20241005T160000
END:DAYLIGHT
BEGIN:STANDARD
TZOFFSETFROM:+1100
TZOFFSETTO:+1000
TZNAME:AEST
DTSTART:20250405T160000
END:STANDARD
BEGIN:DAYLIGHT
TZOFFSETFROM:+1000
TZOFFSETTO:+1100
TZNAME:AEDT
DTSTART:20251004T160000
END:DAYLIGHT
END:VTIMEZONE
BEGIN:VEVENT
DTSTART;TZID=Australia/Melbourne:20240121T080000
DTEND;TZID=Australia/Melbourne:20240121T170000
DTSTAMP:20260426T020007
CREATED:20231213T042619Z
LAST-MODIFIED:20231213T042619Z
UID:5140-1705824000-1705856400@cmccv.org.au
SUMMARY:Sunday Event - AOMC Festival of Motoring
DESCRIPTION:Sunday Event – AOMC Festival of Motoring\, Cruden Farm (60 Cranbourne-Frankston Rd Langwarrin) \nThe Club will have a display of motorcycles at this event. Due to the limit of motorcycles the Club can have on display\, Peter Mathews (AOMC Board member) will approach members to ensure a wide variety of marques are selected. Members who are not displaying a motorcycle are encouraged to attend what promises to be a great event.
URL:https://cmccv.org.au/event/sunday-event-aomc-festival-of-motoring/
CATEGORIES:Club Event
END:VEVENT
END:VCALENDAR