BEGIN:VCALENDAR
VERSION:2.0
PRODID:-//Classic Motorcycle Club of Victoria Inc. - ECPv6.15.20//NONSGML v1.0//EN
CALSCALE:GREGORIAN
METHOD:PUBLISH
X-WR-CALNAME:Classic Motorcycle Club of Victoria Inc.
X-ORIGINAL-URL:https://cmccv.org.au
X-WR-CALDESC:Events for Classic Motorcycle Club of Victoria Inc.
REFRESH-INTERVAL;VALUE=DURATION:PT1H
X-Robots-Tag:noindex
X-PUBLISHED-TTL:PT1H
BEGIN:VTIMEZONE
TZID:Australia/Melbourne
BEGIN:STANDARD
TZOFFSETFROM:+1100
TZOFFSETTO:+1000
TZNAME:AEST
DTSTART:20250405T160000
END:STANDARD
BEGIN:DAYLIGHT
TZOFFSETFROM:+1000
TZOFFSETTO:+1100
TZNAME:AEDT
DTSTART:20251004T160000
END:DAYLIGHT
BEGIN:STANDARD
TZOFFSETFROM:+1100
TZOFFSETTO:+1000
TZNAME:AEST
DTSTART:20260404T160000
END:STANDARD
BEGIN:DAYLIGHT
TZOFFSETFROM:+1000
TZOFFSETTO:+1100
TZNAME:AEDT
DTSTART:20261003T160000
END:DAYLIGHT
BEGIN:STANDARD
TZOFFSETFROM:+1100
TZOFFSETTO:+1000
TZNAME:AEST
DTSTART:20270403T160000
END:STANDARD
BEGIN:DAYLIGHT
TZOFFSETFROM:+1000
TZOFFSETTO:+1100
TZNAME:AEDT
DTSTART:20271002T160000
END:DAYLIGHT
END:VTIMEZONE
BEGIN:VEVENT
DTSTART;TZID=Australia/Melbourne:20260217T120000
DTEND;TZID=Australia/Melbourne:20260217T170000
DTSTAMP:20260422T121521
CREATED:20251215T050752Z
LAST-MODIFIED:20251215T050752Z
UID:6257-1771329600-1771347600@cmccv.org.au
SUMMARY:Mid-week Lunch
DESCRIPTION:Notting Hill Hotel\, (260 Ferntree Gully Rd Notting Hill)\, starting at 12 Midday. We would encourage any older members who are not riding any more to join us for a social lunch\, come in the car or get a lift. Lunch organiser Paul Clayton.
URL:https://cmccv.org.au/event/mid-week-lunch/
CATEGORIES:Club Event
ORGANIZER;CN="Paul Clayton":MAILTO:gailclayton@bigpond.com
END:VEVENT
END:VCALENDAR