BEGIN:VCALENDAR
VERSION:2.0
PRODID:-//Classic Motorcycle Club of Victoria Inc. - ECPv6.15.20//NONSGML v1.0//EN
CALSCALE:GREGORIAN
METHOD:PUBLISH
X-WR-CALNAME:Classic Motorcycle Club of Victoria Inc.
X-ORIGINAL-URL:https://cmccv.org.au
X-WR-CALDESC:Events for Classic Motorcycle Club of Victoria Inc.
REFRESH-INTERVAL;VALUE=DURATION:PT1H
X-Robots-Tag:noindex
X-PUBLISHED-TTL:PT1H
BEGIN:VTIMEZONE
TZID:Australia/Melbourne
BEGIN:STANDARD
TZOFFSETFROM:+1100
TZOFFSETTO:+1000
TZNAME:AEST
DTSTART:20230401T160000
END:STANDARD
BEGIN:DAYLIGHT
TZOFFSETFROM:+1000
TZOFFSETTO:+1100
TZNAME:AEDT
DTSTART:20230930T160000
END:DAYLIGHT
BEGIN:STANDARD
TZOFFSETFROM:+1100
TZOFFSETTO:+1000
TZNAME:AEST
DTSTART:20240406T160000
END:STANDARD
BEGIN:DAYLIGHT
TZOFFSETFROM:+1000
TZOFFSETTO:+1100
TZNAME:AEDT
DTSTART:20241005T160000
END:DAYLIGHT
BEGIN:STANDARD
TZOFFSETFROM:+1100
TZOFFSETTO:+1000
TZNAME:AEST
DTSTART:20250405T160000
END:STANDARD
BEGIN:DAYLIGHT
TZOFFSETFROM:+1000
TZOFFSETTO:+1100
TZNAME:AEDT
DTSTART:20251004T160000
END:DAYLIGHT
END:VTIMEZONE
BEGIN:VEVENT
DTSTART;TZID=Australia/Melbourne:20240204T083000
DTEND;TZID=Australia/Melbourne:20240204T170000
DTSTAMP:20260423T194454
CREATED:20231213T042648Z
LAST-MODIFIED:20231213T042648Z
UID:5142-1707035400-1707066000@cmccv.org.au
SUMMARY:Geelong 1st Sunday Ride
DESCRIPTION:
URL:https://cmccv.org.au/event/geelong-1st-sunday-ride-9/
LOCATION:Waurn Ponds\, Cnr Princes Highway & South Valley Rd\, Waurn Ponds\, 3221\, Australia
CATEGORIES:Geelong Ride
END:VEVENT
BEGIN:VEVENT
DTSTART;TZID=Australia/Melbourne:20240218T083000
DTEND;TZID=Australia/Melbourne:20240218T170000
DTSTAMP:20260423T194454
CREATED:20231213T042829Z
LAST-MODIFIED:20231213T042829Z
UID:5146-1708245000-1708275600@cmccv.org.au
SUMMARY:Geelong 3rd Sunday Ride
DESCRIPTION:
URL:https://cmccv.org.au/event/geelong-3rd-sunday-ride-12/
LOCATION:Waurn Ponds\, Cnr Princes Highway & South Valley Rd\, Waurn Ponds\, 3221\, Australia
CATEGORIES:Geelong Ride
END:VEVENT
END:VCALENDAR