BEGIN:VCALENDAR
VERSION:2.0
PRODID:-//Classic Motorcycle Club of Victoria Inc. - ECPv6.15.20//NONSGML v1.0//EN
CALSCALE:GREGORIAN
METHOD:PUBLISH
X-ORIGINAL-URL:https://cmccv.org.au
X-WR-CALDESC:Events for Classic Motorcycle Club of Victoria Inc.
REFRESH-INTERVAL;VALUE=DURATION:PT1H
X-Robots-Tag:noindex
X-PUBLISHED-TTL:PT1H
BEGIN:VTIMEZONE
TZID:Australia/Melbourne
BEGIN:STANDARD
TZOFFSETFROM:+1100
TZOFFSETTO:+1000
TZNAME:AEST
DTSTART:20230401T160000
END:STANDARD
BEGIN:DAYLIGHT
TZOFFSETFROM:+1000
TZOFFSETTO:+1100
TZNAME:AEDT
DTSTART:20230930T160000
END:DAYLIGHT
BEGIN:STANDARD
TZOFFSETFROM:+1100
TZOFFSETTO:+1000
TZNAME:AEST
DTSTART:20240406T160000
END:STANDARD
BEGIN:DAYLIGHT
TZOFFSETFROM:+1000
TZOFFSETTO:+1100
TZNAME:AEDT
DTSTART:20241005T160000
END:DAYLIGHT
BEGIN:STANDARD
TZOFFSETFROM:+1100
TZOFFSETTO:+1000
TZNAME:AEST
DTSTART:20250405T160000
END:STANDARD
BEGIN:DAYLIGHT
TZOFFSETFROM:+1000
TZOFFSETTO:+1100
TZNAME:AEDT
DTSTART:20251004T160000
END:DAYLIGHT
END:VTIMEZONE
BEGIN:VEVENT
DTSTART;TZID=Australia/Melbourne:20240901T090000
DTEND;TZID=Australia/Melbourne:20240901T170000
DTSTAMP:20260423T084518
CREATED:20240710T014523Z
LAST-MODIFIED:20240710T014523Z
UID:5426-1725181200-1725210000@cmccv.org.au
SUMMARY:Geelong 1st Sunday Ride.
DESCRIPTION:
URL:https://cmccv.org.au/event/geelong-1st-sunday-ride-15/
LOCATION:Waurn Ponds\, Cnr Princes Highway & South Valley Rd\, Waurn Ponds\, 3221\, Australia
CATEGORIES:Geelong Ride,Sunday Ride
END:VEVENT
BEGIN:VEVENT
DTSTART;TZID=Australia/Melbourne:20240915T090000
DTEND;TZID=Australia/Melbourne:20240915T170000
DTSTAMP:20260423T084518
CREATED:20240710T014628Z
LAST-MODIFIED:20240710T014628Z
UID:5430-1726390800-1726419600@cmccv.org.au
SUMMARY:Geelong 3rd Sunday Ride
DESCRIPTION:
URL:https://cmccv.org.au/event/geelong-3rd-sunday-ride-18/
LOCATION:Waurn Ponds\, Cnr Princes Highway & South Valley Rd\, Waurn Ponds\, 3221\, Australia
CATEGORIES:Geelong Ride,Sunday Ride
END:VEVENT
END:VCALENDAR