BEGIN:VCALENDAR
VERSION:2.0
PRODID:-//Classic Motorcycle Club of Victoria Inc. - ECPv6.15.20//NONSGML v1.0//EN
CALSCALE:GREGORIAN
METHOD:PUBLISH
X-ORIGINAL-URL:https://cmccv.org.au
X-WR-CALDESC:Events for Classic Motorcycle Club of Victoria Inc.
REFRESH-INTERVAL;VALUE=DURATION:PT1H
X-Robots-Tag:noindex
X-PUBLISHED-TTL:PT1H
BEGIN:VTIMEZONE
TZID:Australia/Melbourne
BEGIN:STANDARD
TZOFFSETFROM:+1100
TZOFFSETTO:+1000
TZNAME:AEST
DTSTART:20240406T160000
END:STANDARD
BEGIN:DAYLIGHT
TZOFFSETFROM:+1000
TZOFFSETTO:+1100
TZNAME:AEDT
DTSTART:20241005T160000
END:DAYLIGHT
BEGIN:STANDARD
TZOFFSETFROM:+1100
TZOFFSETTO:+1000
TZNAME:AEST
DTSTART:20250405T160000
END:STANDARD
BEGIN:DAYLIGHT
TZOFFSETFROM:+1000
TZOFFSETTO:+1100
TZNAME:AEDT
DTSTART:20251004T160000
END:DAYLIGHT
BEGIN:STANDARD
TZOFFSETFROM:+1100
TZOFFSETTO:+1000
TZNAME:AEST
DTSTART:20260404T160000
END:STANDARD
BEGIN:DAYLIGHT
TZOFFSETFROM:+1000
TZOFFSETTO:+1100
TZNAME:AEDT
DTSTART:20261003T160000
END:DAYLIGHT
BEGIN:STANDARD
TZOFFSETFROM:+1100
TZOFFSETTO:+1000
TZNAME:AEST
DTSTART:20270403T160000
END:STANDARD
BEGIN:DAYLIGHT
TZOFFSETFROM:+1000
TZOFFSETTO:+1100
TZNAME:AEDT
DTSTART:20271002T160000
END:DAYLIGHT
END:VTIMEZONE
BEGIN:VEVENT
DTSTART;TZID=Australia/Melbourne:20250601T090000
DTEND;TZID=Australia/Melbourne:20250601T170000
DTSTAMP:20260423T135137
CREATED:20250412T025136Z
LAST-MODIFIED:20250412T025136Z
UID:5839-1748768400-1748797200@cmccv.org.au
SUMMARY:1st Sunday Geelong Ride
DESCRIPTION:
URL:https://cmccv.org.au/event/1st-sunday-geelong-ride-5/
LOCATION:Waurn Ponds\, Cnr Princes Highway & South Valley Rd\, Waurn Ponds\, 3221\, Australia
CATEGORIES:Geelong Ride
END:VEVENT
BEGIN:VEVENT
DTSTART;TZID=Australia/Melbourne:20250615T090000
DTEND;TZID=Australia/Melbourne:20250615T170000
DTSTAMP:20260423T135137
CREATED:20250412T025323Z
LAST-MODIFIED:20250412T025323Z
UID:5843-1749978000-1750006800@cmccv.org.au
SUMMARY:3rd Sunday Geelong Ride
DESCRIPTION:
URL:https://cmccv.org.au/event/3rd-sunday-geelong-ride-5/
LOCATION:Waurn Ponds\, Cnr Princes Highway & South Valley Rd\, Waurn Ponds\, 3221\, Australia
CATEGORIES:Geelong Ride
END:VEVENT
BEGIN:VEVENT
DTSTART;TZID=Australia/Melbourne:20250706T093000
DTEND;TZID=Australia/Melbourne:20250706T170000
DTSTAMP:20260423T135137
CREATED:20250602T023955Z
LAST-MODIFIED:20250602T025016Z
UID:5967-1751794200-1751821200@cmccv.org.au
SUMMARY:1st Sunday Geelong Ride
DESCRIPTION:
URL:https://cmccv.org.au/event/1st-sunday-geelong-ride-6/
LOCATION:Waurn Ponds\, Cnr Princes Highway & South Valley Rd\, Waurn Ponds\, 3221\, Australia
CATEGORIES:Geelong Ride,Sunday Ride
END:VEVENT
BEGIN:VEVENT
DTSTART;TZID=Australia/Melbourne:20250720T093000
DTEND;TZID=Australia/Melbourne:20250720T170000
DTSTAMP:20260423T135137
CREATED:20250602T024241Z
LAST-MODIFIED:20250602T024241Z
UID:5973-1753003800-1753030800@cmccv.org.au
SUMMARY:3rd Sunday Geelong Ride
DESCRIPTION:
URL:https://cmccv.org.au/event/3rd-sunday-geelong-ride-6/
LOCATION:Waurn Ponds\, Cnr Princes Highway & South Valley Rd\, Waurn Ponds\, 3221\, Australia
CATEGORIES:Geelong Ride,Sunday Ride
END:VEVENT
BEGIN:VEVENT
DTSTART;TZID=Australia/Melbourne:20250803T093000
DTEND;TZID=Australia/Melbourne:20250803T170000
DTSTAMP:20260423T135137
CREATED:20250602T024650Z
LAST-MODIFIED:20250602T024650Z
UID:5977-1754213400-1754240400@cmccv.org.au
SUMMARY:1st Sunday Geelong Ride
DESCRIPTION:
URL:https://cmccv.org.au/event/1st-sunday-geelong-ride-7/
LOCATION:Waurn Ponds\, Cnr Princes Highway & South Valley Rd\, Waurn Ponds\, 3221\, Australia
CATEGORIES:Geelong Ride,Sunday Ride
END:VEVENT
BEGIN:VEVENT
DTSTART;TZID=Australia/Melbourne:20250817T093000
DTEND;TZID=Australia/Melbourne:20250817T170000
DTSTAMP:20260423T135137
CREATED:20250602T024749Z
LAST-MODIFIED:20250602T024749Z
UID:5981-1755423000-1755450000@cmccv.org.au
SUMMARY:3rd Sunday Geelong Ride
DESCRIPTION:
URL:https://cmccv.org.au/event/3rd-sunday-geelong-ride-7/
LOCATION:Waurn Ponds\, Cnr Princes Highway & South Valley Rd\, Waurn Ponds\, 3221\, Australia
CATEGORIES:Geelong Ride,Sunday Ride
END:VEVENT
BEGIN:VEVENT
DTSTART;TZID=Australia/Melbourne:20250907T093000
DTEND;TZID=Australia/Melbourne:20250907T170000
DTSTAMP:20260423T135137
CREATED:20250725T032225Z
LAST-MODIFIED:20250725T032530Z
UID:6020-1757237400-1757264400@cmccv.org.au
SUMMARY:1st Sunday Geelong Ride
DESCRIPTION:
URL:https://cmccv.org.au/event/1st-sunday-geelong-ride-8/
LOCATION:Waurn Ponds\, Cnr Princes Highway & South Valley Rd\, Waurn Ponds\, 3221\, Australia
CATEGORIES:Geelong Ride,Sunday Ride
END:VEVENT
BEGIN:VEVENT
DTSTART;TZID=Australia/Melbourne:20250921T093000
DTEND;TZID=Australia/Melbourne:20250921T170000
DTSTAMP:20260423T135137
CREATED:20250725T032430Z
LAST-MODIFIED:20250822T121837Z
UID:6026-1758447000-1758474000@cmccv.org.au
SUMMARY:3rd Sunday Geelong Ride
DESCRIPTION:
URL:https://cmccv.org.au/event/3rd-sunday-geelong-ride-8/
LOCATION:Waurn Ponds\, Cnr Princes Highway & South Valley Rd\, Waurn Ponds\, 3221\, Australia
CATEGORIES:Geelong Ride,Sunday Ride
END:VEVENT
BEGIN:VEVENT
DTSTART;TZID=Australia/Melbourne:20251005T083000
DTEND;TZID=Australia/Melbourne:20251005T170000
DTSTAMP:20260423T135137
CREATED:20250905T001300Z
LAST-MODIFIED:20250905T001300Z
UID:6130-1759653000-1759683600@cmccv.org.au
SUMMARY:1st Sunday Geelong Ride
DESCRIPTION:1st Sunday Geelong Ride              
URL:https://cmccv.org.au/event/1st-sunday-geelong-ride-9/
LOCATION:Waurn Ponds\, Cnr Princes Highway & South Valley Rd\, Waurn Ponds\, 3221\, Australia
CATEGORIES:Geelong Ride,Sunday Ride
END:VEVENT
BEGIN:VEVENT
DTSTART;TZID=Australia/Melbourne:20251102T083000
DTEND;TZID=Australia/Melbourne:20251102T170000
DTSTAMP:20260423T135137
CREATED:20250905T001712Z
LAST-MODIFIED:20250905T001712Z
UID:6140-1762072200-1762102800@cmccv.org.au
SUMMARY:1st Sunday Geelong Ride
DESCRIPTION:1st Sunday Geelong Ride              
URL:https://cmccv.org.au/event/1st-sunday-geelong-ride-10/
LOCATION:Waurn Ponds\, Cnr Princes Highway & South Valley Rd\, Waurn Ponds\, 3221\, Australia
CATEGORIES:Geelong Ride,Sunday Ride
END:VEVENT
BEGIN:VEVENT
DTSTART;TZID=Australia/Melbourne:20251116T083000
DTEND;TZID=Australia/Melbourne:20251116T170000
DTSTAMP:20260423T135137
CREATED:20250905T001952Z
LAST-MODIFIED:20250905T001952Z
UID:6146-1763281800-1763312400@cmccv.org.au
SUMMARY:3rd Sunday Geelong Ride
DESCRIPTION:3rd Sunday Geelong Ride
URL:https://cmccv.org.au/event/3rd-sunday-geelong-ride-9/
LOCATION:Waurn Ponds\, Cnr Princes Highway & South Valley Rd\, Waurn Ponds\, 3221\, Australia
CATEGORIES:Geelong Ride,Sunday Ride
END:VEVENT
BEGIN:VEVENT
DTSTART;TZID=Australia/Melbourne:20251221T083000
DTEND;TZID=Australia/Melbourne:20251221T170000
DTSTAMP:20260423T135137
CREATED:20251215T045548Z
LAST-MODIFIED:20251215T045548Z
UID:6235-1766305800-1766336400@cmccv.org.au
SUMMARY:3rd Sunday Geelong Ride
DESCRIPTION:
URL:https://cmccv.org.au/event/3rd-sunday-geelong-ride-10/
LOCATION:Waurn Ponds\, Cnr Princes Highway & South Valley Rd\, Waurn Ponds\, 3221\, Australia
CATEGORIES:Geelong Ride,Sunday Ride
END:VEVENT
BEGIN:VEVENT
DTSTART;TZID=Australia/Melbourne:20260104T083000
DTEND;TZID=Australia/Melbourne:20260104T170000
DTSTAMP:20260423T135137
CREATED:20251215T045626Z
LAST-MODIFIED:20251215T045626Z
UID:6237-1767515400-1767546000@cmccv.org.au
SUMMARY:1st Sunday Geelong Ride
DESCRIPTION:
URL:https://cmccv.org.au/event/1st-sunday-geelong-ride-11/
LOCATION:Waurn Ponds\, Cnr Princes Highway & South Valley Rd\, Waurn Ponds\, 3221\, Australia
CATEGORIES:Geelong Ride,Sunday Ride
END:VEVENT
BEGIN:VEVENT
DTSTART;TZID=Australia/Melbourne:20260118T083000
DTEND;TZID=Australia/Melbourne:20260118T170000
DTSTAMP:20260423T135137
CREATED:20251215T045658Z
LAST-MODIFIED:20251215T045659Z
UID:6239-1768725000-1768755600@cmccv.org.au
SUMMARY:3rd Sunday Geelong Ride
DESCRIPTION:
URL:https://cmccv.org.au/event/3rd-sunday-geelong-ride-11/
LOCATION:Waurn Ponds\, Cnr Princes Highway & South Valley Rd\, Waurn Ponds\, 3221\, Australia
CATEGORIES:Geelong Ride,Sunday Ride
END:VEVENT
BEGIN:VEVENT
DTSTART;TZID=Australia/Melbourne:20260215T083000
DTEND;TZID=Australia/Melbourne:20260215T170000
DTSTAMP:20260423T135137
CREATED:20251215T050535Z
LAST-MODIFIED:20251215T050535Z
UID:6255-1771144200-1771174800@cmccv.org.au
SUMMARY:3rd Sunday Geelong Ride
DESCRIPTION:
URL:https://cmccv.org.au/event/3rd-sunday-geelong-ride-12/
LOCATION:Waurn Ponds\, Cnr Princes Highway & South Valley Rd\, Waurn Ponds\, 3221\, Australia
CATEGORIES:Geelong Ride,Sunday Ride
END:VEVENT
BEGIN:VEVENT
DTSTART;TZID=Australia/Melbourne:20260301T083000
DTEND;TZID=Australia/Melbourne:20260301T170000
DTSTAMP:20260423T135137
CREATED:20260129T055816Z
LAST-MODIFIED:20260129T055816Z
UID:6309-1772353800-1772384400@cmccv.org.au
SUMMARY:1st Sunday Geelong Ride
DESCRIPTION:
URL:https://cmccv.org.au/event/1st-sunday-geelong-ride-12/
LOCATION:Waurn Ponds\, Cnr Princes Highway & South Valley Rd\, Waurn Ponds\, 3221\, Australia
CATEGORIES:Geelong Ride,Sunday Ride
END:VEVENT
BEGIN:VEVENT
DTSTART;TZID=Australia/Melbourne:20260405T083000
DTEND;TZID=Australia/Melbourne:20260405T170000
DTSTAMP:20260423T135137
CREATED:20260129T060137Z
LAST-MODIFIED:20260129T060137Z
UID:6317-1775377800-1775408400@cmccv.org.au
SUMMARY:1st Sunday Geelong Ride
DESCRIPTION:
URL:https://cmccv.org.au/event/1st-sunday-geelong-ride-13/
LOCATION:Waurn Ponds\, Cnr Princes Highway & South Valley Rd\, Waurn Ponds\, 3221\, Australia
CATEGORIES:Geelong Ride,Sunday Ride
END:VEVENT
BEGIN:VEVENT
DTSTART;TZID=Australia/Melbourne:20260419T083000
DTEND;TZID=Australia/Melbourne:20260419T170000
DTSTAMP:20260423T135137
CREATED:20260129T060352Z
LAST-MODIFIED:20260129T060352Z
UID:6323-1776587400-1776618000@cmccv.org.au
SUMMARY:3rd Sunday Geelong Ride
DESCRIPTION:
URL:https://cmccv.org.au/event/3rd-sunday-geelong-ride-13/
LOCATION:Waurn Ponds\, Cnr Princes Highway & South Valley Rd\, Waurn Ponds\, 3221\, Australia
CATEGORIES:Geelong Ride,Sunday Ride
END:VEVENT
BEGIN:VEVENT
DTSTART;TZID=Australia/Melbourne:20260503T083000
DTEND;TZID=Australia/Melbourne:20260503T170000
DTSTAMP:20260423T135137
CREATED:20260404T001545Z
LAST-MODIFIED:20260404T001545Z
UID:6992-1777797000-1777827600@cmccv.org.au
SUMMARY:1st Sunday Geelong Ride
DESCRIPTION:
URL:https://cmccv.org.au/event/1st-sunday-geelong-ride-14/
LOCATION:Waurn Ponds\, Cnr Princes Highway & South Valley Rd\, Waurn Ponds\, 3221\, Australia
CATEGORIES:Geelong Ride,Sunday Ride
END:VEVENT
BEGIN:VEVENT
DTSTART;TZID=Australia/Melbourne:20260517T083000
DTEND;TZID=Australia/Melbourne:20260517T170000
DTSTAMP:20260423T135137
CREATED:20260404T001826Z
LAST-MODIFIED:20260404T001826Z
UID:6998-1779006600-1779037200@cmccv.org.au
SUMMARY:3rd Sunday Geelong Ride
DESCRIPTION:
URL:https://cmccv.org.au/event/3rd-sunday-geelong-ride-14/
LOCATION:Waurn Ponds\, Cnr Princes Highway & South Valley Rd\, Waurn Ponds\, 3221\, Australia
CATEGORIES:Geelong Ride,Sunday Ride
END:VEVENT
BEGIN:VEVENT
DTSTART;TZID=Australia/Melbourne:20260607T083000
DTEND;TZID=Australia/Melbourne:20260607T170000
DTSTAMP:20260423T135137
CREATED:20260404T002723Z
LAST-MODIFIED:20260418T023248Z
UID:7010-1780821000-1780851600@cmccv.org.au
SUMMARY:1st Sunday Geelong Ride
DESCRIPTION:1st Sunday Geelong Ride
URL:https://cmccv.org.au/event/7010/
LOCATION:Waurn Ponds\, Cnr Princes Highway & South Valley Rd\, Waurn Ponds\, 3221\, Australia
CATEGORIES:Geelong Ride,Sunday Ride
END:VEVENT
BEGIN:VEVENT
DTSTART;TZID=Australia/Melbourne:20260621T083000
DTEND;TZID=Australia/Melbourne:20260621T170000
DTSTAMP:20260423T135137
CREATED:20260404T002955Z
LAST-MODIFIED:20260404T002955Z
UID:7016-1782030600-1782061200@cmccv.org.au
SUMMARY:3rd Sunday Geelong Ride
DESCRIPTION:
URL:https://cmccv.org.au/event/3rd-sunday-geelong-ride-15/
LOCATION:Waurn Ponds\, Cnr Princes Highway & South Valley Rd\, Waurn Ponds\, 3221\, Australia
CATEGORIES:Geelong Ride,Sunday Ride
END:VEVENT
END:VCALENDAR