BEGIN:VCALENDAR
VERSION:2.0
PRODID:-//Classic Motorcycle Club of Victoria Inc. - ECPv6.15.20//NONSGML v1.0//EN
CALSCALE:GREGORIAN
METHOD:PUBLISH
X-WR-CALNAME:Classic Motorcycle Club of Victoria Inc.
X-ORIGINAL-URL:https://cmccv.org.au
X-WR-CALDESC:Events for Classic Motorcycle Club of Victoria Inc.
REFRESH-INTERVAL;VALUE=DURATION:PT1H
X-Robots-Tag:noindex
X-PUBLISHED-TTL:PT1H
BEGIN:VTIMEZONE
TZID:Australia/Melbourne
BEGIN:STANDARD
TZOFFSETFROM:+1100
TZOFFSETTO:+1000
TZNAME:AEST
DTSTART:20250405T160000
END:STANDARD
BEGIN:DAYLIGHT
TZOFFSETFROM:+1000
TZOFFSETTO:+1100
TZNAME:AEDT
DTSTART:20251004T160000
END:DAYLIGHT
BEGIN:STANDARD
TZOFFSETFROM:+1100
TZOFFSETTO:+1000
TZNAME:AEST
DTSTART:20260404T160000
END:STANDARD
BEGIN:DAYLIGHT
TZOFFSETFROM:+1000
TZOFFSETTO:+1100
TZNAME:AEDT
DTSTART:20261003T160000
END:DAYLIGHT
BEGIN:STANDARD
TZOFFSETFROM:+1100
TZOFFSETTO:+1000
TZNAME:AEST
DTSTART:20270403T160000
END:STANDARD
BEGIN:DAYLIGHT
TZOFFSETFROM:+1000
TZOFFSETTO:+1100
TZNAME:AEDT
DTSTART:20271002T160000
END:DAYLIGHT
END:VTIMEZONE
BEGIN:VEVENT
DTSTART;TZID=Australia/Melbourne:20260318T193000
DTEND;TZID=Australia/Melbourne:20260318T213000
DTSTAMP:20260422T100950
CREATED:20260129T060013Z
LAST-MODIFIED:20260129T060013Z
UID:6313-1773862200-1773869400@cmccv.org.au
SUMMARY:General Meeting
DESCRIPTION:At Sturgess Hall Club Rooms – starting at 7:30pm sharp.\nGuest presenter is Des Molloy. Des will do a talk a talk on his book The Big Sit which covers his ride around Australia on his trusty Panther ‘Penelope.’ Book orders can be made on the night. This is Des’ second presentation to the Club\, the first in 2022 was on his book The Last Hurrah.
URL:https://cmccv.org.au/event/general-meeting-45/
LOCATION:Sturgess Hall\, 1 Chatfield Avenue\, Deepdene\, Victoria\, Australia
CATEGORIES:Meeting
END:VEVENT
END:VCALENDAR