BEGIN:VCALENDAR
VERSION:2.0
PRODID:-//Classic Motorcycle Club of Victoria Inc. - ECPv6.15.20//NONSGML v1.0//EN
CALSCALE:GREGORIAN
METHOD:PUBLISH
X-WR-CALNAME:Classic Motorcycle Club of Victoria Inc.
X-ORIGINAL-URL:https://cmccv.org.au
X-WR-CALDESC:Events for Classic Motorcycle Club of Victoria Inc.
REFRESH-INTERVAL;VALUE=DURATION:PT1H
X-Robots-Tag:noindex
X-PUBLISHED-TTL:PT1H
BEGIN:VTIMEZONE
TZID:Australia/Melbourne
BEGIN:STANDARD
TZOFFSETFROM:+1100
TZOFFSETTO:+1000
TZNAME:AEST
DTSTART:20240406T160000
END:STANDARD
BEGIN:DAYLIGHT
TZOFFSETFROM:+1000
TZOFFSETTO:+1100
TZNAME:AEDT
DTSTART:20241005T160000
END:DAYLIGHT
BEGIN:STANDARD
TZOFFSETFROM:+1100
TZOFFSETTO:+1000
TZNAME:AEST
DTSTART:20250405T160000
END:STANDARD
BEGIN:DAYLIGHT
TZOFFSETFROM:+1000
TZOFFSETTO:+1100
TZNAME:AEDT
DTSTART:20251004T160000
END:DAYLIGHT
BEGIN:STANDARD
TZOFFSETFROM:+1100
TZOFFSETTO:+1000
TZNAME:AEST
DTSTART:20260404T160000
END:STANDARD
BEGIN:DAYLIGHT
TZOFFSETFROM:+1000
TZOFFSETTO:+1100
TZNAME:AEDT
DTSTART:20261003T160000
END:DAYLIGHT
END:VTIMEZONE
BEGIN:VEVENT
DTSTART;TZID=Australia/Melbourne:20250917T193000
DTEND;TZID=Australia/Melbourne:20250917T213000
DTSTAMP:20260423T191429
CREATED:20250725T032400Z
LAST-MODIFIED:20250822T122132Z
UID:6024-1758137400-1758144600@cmccv.org.au
SUMMARY:General Meeting
DESCRIPTION:General Meeting at Sturgess Hall Club Rooms Starting at 7.30pm sharp. Guest Speaker John Butler (from Historical Motorcycle Club of Queensland)\, presenting “Almost everything you need to know about spark plugs\, (but were afraid to ask)!” \n 
URL:https://cmccv.org.au/event/general-meeting-41/
LOCATION:Sturgess Hall\, 1 Chatfield Avenue\, Deepdene\, Victoria\, Australia
CATEGORIES:Meeting
END:VEVENT
END:VCALENDAR