BEGIN:VCALENDAR
VERSION:2.0
PRODID:-//Classic Motorcycle Club of Victoria Inc. - ECPv6.15.20//NONSGML v1.0//EN
CALSCALE:GREGORIAN
METHOD:PUBLISH
X-ORIGINAL-URL:https://cmccv.org.au
X-WR-CALDESC:Events for Classic Motorcycle Club of Victoria Inc.
REFRESH-INTERVAL;VALUE=DURATION:PT1H
X-Robots-Tag:noindex
X-PUBLISHED-TTL:PT1H
BEGIN:VTIMEZONE
TZID:Australia/Melbourne
BEGIN:STANDARD
TZOFFSETFROM:+1100
TZOFFSETTO:+1000
TZNAME:AEST
DTSTART:20250405T160000
END:STANDARD
BEGIN:DAYLIGHT
TZOFFSETFROM:+1000
TZOFFSETTO:+1100
TZNAME:AEDT
DTSTART:20251004T160000
END:DAYLIGHT
BEGIN:STANDARD
TZOFFSETFROM:+1100
TZOFFSETTO:+1000
TZNAME:AEST
DTSTART:20260404T160000
END:STANDARD
BEGIN:DAYLIGHT
TZOFFSETFROM:+1000
TZOFFSETTO:+1100
TZNAME:AEDT
DTSTART:20261003T160000
END:DAYLIGHT
BEGIN:STANDARD
TZOFFSETFROM:+1100
TZOFFSETTO:+1000
TZNAME:AEST
DTSTART:20270403T160000
END:STANDARD
BEGIN:DAYLIGHT
TZOFFSETFROM:+1000
TZOFFSETTO:+1100
TZNAME:AEDT
DTSTART:20271002T160000
END:DAYLIGHT
END:VTIMEZONE
BEGIN:VEVENT
DTSTART;TZID=Australia/Melbourne:20260415T193000
DTEND;TZID=Australia/Melbourne:20260415T213000
DTSTAMP:20260422T101518
CREATED:20260129T060313Z
LAST-MODIFIED:20260129T060313Z
UID:6321-1776281400-1776288600@cmccv.org.au
SUMMARY:General Meeting
DESCRIPTION:At Sturgess Hall Club Rooms – starting at 7:30pm sharp.\nClub member Gary Rizzolo\, a Master instrument maker and Craftsman\, will do a presentation on what goes into the construction of the guitars his make\, with some of these exceptional guitars he crafts on display.
URL:https://cmccv.org.au/event/general-meeting-46/
LOCATION:Sturgess Hall\, 1 Chatfield Avenue\, Deepdene\, Victoria\, Australia
CATEGORIES:Meeting
END:VEVENT
END:VCALENDAR