BEGIN:VCALENDAR
VERSION:2.0
PRODID:-//Classic Motorcycle Club of Victoria Inc. - ECPv6.15.20//NONSGML v1.0//EN
CALSCALE:GREGORIAN
METHOD:PUBLISH
X-ORIGINAL-URL:https://cmccv.org.au
X-WR-CALDESC:Events for Classic Motorcycle Club of Victoria Inc.
REFRESH-INTERVAL;VALUE=DURATION:PT1H
X-Robots-Tag:noindex
X-PUBLISHED-TTL:PT1H
BEGIN:VTIMEZONE
TZID:Australia/Melbourne
BEGIN:STANDARD
TZOFFSETFROM:+1100
TZOFFSETTO:+1000
TZNAME:AEST
DTSTART:20240406T160000
END:STANDARD
BEGIN:DAYLIGHT
TZOFFSETFROM:+1000
TZOFFSETTO:+1100
TZNAME:AEDT
DTSTART:20241005T160000
END:DAYLIGHT
BEGIN:STANDARD
TZOFFSETFROM:+1100
TZOFFSETTO:+1000
TZNAME:AEST
DTSTART:20250405T160000
END:STANDARD
BEGIN:DAYLIGHT
TZOFFSETFROM:+1000
TZOFFSETTO:+1100
TZNAME:AEDT
DTSTART:20251004T160000
END:DAYLIGHT
BEGIN:STANDARD
TZOFFSETFROM:+1100
TZOFFSETTO:+1000
TZNAME:AEST
DTSTART:20260404T160000
END:STANDARD
BEGIN:DAYLIGHT
TZOFFSETFROM:+1000
TZOFFSETTO:+1100
TZNAME:AEDT
DTSTART:20261003T160000
END:DAYLIGHT
END:VTIMEZONE
BEGIN:VEVENT
DTSTART;TZID=Australia/Melbourne:20250506T093000
DTEND;TZID=Australia/Melbourne:20250506T170000
DTSTAMP:20260424T204411
CREATED:20250227T234403Z
LAST-MODIFIED:20250412T024643Z
UID:5829-1746523800-1746550800@cmccv.org.au
SUMMARY:Mid-week ride
DESCRIPTION:Meet at Chirnside Park 9.30am for 10.00am start.\nMorning tea at Smiths Gully\, lunch at Gembrook. After lunch ride to\nfinish at Emerald\, estimated distance 200 kms\nNote: some roads are narrow and winding.
URL:https://cmccv.org.au/event/mid-week-ride-11/
LOCATION:Chirnside Park\, cnr Maroondah Hwy and Edward St\, Chirnside Park\, Victoria\, 3116\, Australia
CATEGORIES:Mid Week Ride
END:VEVENT
BEGIN:VEVENT
DTSTART;TZID=Australia/Melbourne:20250520T083000
DTEND;TZID=Australia/Melbourne:20250520T170000
DTSTAMP:20260424T204411
CREATED:20250227T234128Z
LAST-MODIFIED:20250514T112335Z
UID:5825-1747729800-1747760400@cmccv.org.au
SUMMARY:Mid-week ride
DESCRIPTION:Cancelled due to midweek ride coordinator being\nout of action\, get well soon Paul.
URL:https://cmccv.org.au/event/mid-week-ride-10/
LOCATION:Victoria
CATEGORIES:Mid Week Ride
ORGANIZER;CN="Paul Clayton":MAILTO:gailclayton@bigpond.com
END:VEVENT
END:VCALENDAR