BEGIN:VCALENDAR
VERSION:2.0
PRODID:-//Classic Motorcycle Club of Victoria Inc. - ECPv6.15.20//NONSGML v1.0//EN
CALSCALE:GREGORIAN
METHOD:PUBLISH
X-WR-CALNAME:Classic Motorcycle Club of Victoria Inc.
X-ORIGINAL-URL:https://cmccv.org.au
X-WR-CALDESC:Events for Classic Motorcycle Club of Victoria Inc.
REFRESH-INTERVAL;VALUE=DURATION:PT1H
X-Robots-Tag:noindex
X-PUBLISHED-TTL:PT1H
BEGIN:VTIMEZONE
TZID:Australia/Melbourne
BEGIN:STANDARD
TZOFFSETFROM:+1100
TZOFFSETTO:+1000
TZNAME:AEST
DTSTART:20240406T160000
END:STANDARD
BEGIN:DAYLIGHT
TZOFFSETFROM:+1000
TZOFFSETTO:+1100
TZNAME:AEDT
DTSTART:20241005T160000
END:DAYLIGHT
BEGIN:STANDARD
TZOFFSETFROM:+1100
TZOFFSETTO:+1000
TZNAME:AEST
DTSTART:20250405T160000
END:STANDARD
BEGIN:DAYLIGHT
TZOFFSETFROM:+1000
TZOFFSETTO:+1100
TZNAME:AEDT
DTSTART:20251004T160000
END:DAYLIGHT
BEGIN:STANDARD
TZOFFSETFROM:+1100
TZOFFSETTO:+1000
TZNAME:AEST
DTSTART:20260404T160000
END:STANDARD
BEGIN:DAYLIGHT
TZOFFSETFROM:+1000
TZOFFSETTO:+1100
TZNAME:AEDT
DTSTART:20261003T160000
END:DAYLIGHT
END:VTIMEZONE
BEGIN:VEVENT
DTSTART;TZID=Australia/Melbourne:20250902T083000
DTEND;TZID=Australia/Melbourne:20250902T170000
DTSTAMP:20260424T141822
CREATED:20250725T032158Z
LAST-MODIFIED:20250819T014235Z
UID:6018-1756801800-1756832400@cmccv.org.au
SUMMARY:Midweek Ride
DESCRIPTION:Meet at Rowville 8:30am for 9am start.\nMorning tea TBA. Lunch at Kilkunda.
URL:https://cmccv.org.au/event/midweek-ride-full-details-in-august-sprocket/
LOCATION:Victoria
CATEGORIES:Mid Week Ride
END:VEVENT
BEGIN:VEVENT
DTSTART;TZID=Australia/Melbourne:20250916T083000
DTEND;TZID=Australia/Melbourne:20250916T170000
DTSTAMP:20260424T141822
CREATED:20250725T032306Z
LAST-MODIFIED:20250905T000532Z
UID:6022-1758011400-1758042000@cmccv.org.au
SUMMARY:Midweek Ride
DESCRIPTION:Start at Chirnside Park\, meet at 8.30 for 9.00am start. Morning tea at Noojee. \nLunch at Bunyip. \nRide finishes at Gembrook. \nRide Leader – Mike Walker 0447 503 128
URL:https://cmccv.org.au/event/midweek-ride-23/
LOCATION:Chirnside Park\, cnr Maroondah Hwy and Edward St\, Chirnside Park\, Victoria\, 3116\, Australia
CATEGORIES:Mid Week Ride
END:VEVENT
END:VCALENDAR