BEGIN:VCALENDAR
VERSION:2.0
PRODID:-//Classic Motorcycle Club of Victoria Inc. - ECPv6.15.20//NONSGML v1.0//EN
CALSCALE:GREGORIAN
METHOD:PUBLISH
X-WR-CALNAME:Classic Motorcycle Club of Victoria Inc.
X-ORIGINAL-URL:https://cmccv.org.au
X-WR-CALDESC:Events for Classic Motorcycle Club of Victoria Inc.
REFRESH-INTERVAL;VALUE=DURATION:PT1H
X-Robots-Tag:noindex
X-PUBLISHED-TTL:PT1H
BEGIN:VTIMEZONE
TZID:Australia/Melbourne
BEGIN:STANDARD
TZOFFSETFROM:+1100
TZOFFSETTO:+1000
TZNAME:AEST
DTSTART:20240406T160000
END:STANDARD
BEGIN:DAYLIGHT
TZOFFSETFROM:+1000
TZOFFSETTO:+1100
TZNAME:AEDT
DTSTART:20241005T160000
END:DAYLIGHT
BEGIN:STANDARD
TZOFFSETFROM:+1100
TZOFFSETTO:+1000
TZNAME:AEST
DTSTART:20250405T160000
END:STANDARD
BEGIN:DAYLIGHT
TZOFFSETFROM:+1000
TZOFFSETTO:+1100
TZNAME:AEDT
DTSTART:20251004T160000
END:DAYLIGHT
BEGIN:STANDARD
TZOFFSETFROM:+1100
TZOFFSETTO:+1000
TZNAME:AEST
DTSTART:20260404T160000
END:STANDARD
BEGIN:DAYLIGHT
TZOFFSETFROM:+1000
TZOFFSETTO:+1100
TZNAME:AEDT
DTSTART:20261003T160000
END:DAYLIGHT
END:VTIMEZONE
BEGIN:VEVENT
DTSTART;TZID=Australia/Melbourne:20250401T083000
DTEND;TZID=Australia/Melbourne:20250401T170000
DTSTAMP:20260424T234325
CREATED:20250226T020911Z
LAST-MODIFIED:20250227T233648Z
UID:5796-1743496200-1743526800@cmccv.org.au
SUMMARY:Midweek Ride
DESCRIPTION:Midweek Ride – meet 7/11 Rowville (Cnr Springvale & Wellington Roads) 8.30 for 9.00am departure. \nMorning tea Gladesville Bakery\, lunch TBA. R \nide Rider John Killingsworth 0409841368
URL:https://cmccv.org.au/event/midweek-ride-19/
LOCATION:Victoria
CATEGORIES:Mid Week Ride
END:VEVENT
END:VCALENDAR