BEGIN:VCALENDAR
VERSION:2.0
PRODID:-//Classic Motorcycle Club of Victoria Inc. - ECPv6.15.20//NONSGML v1.0//EN
CALSCALE:GREGORIAN
METHOD:PUBLISH
X-ORIGINAL-URL:https://cmccv.org.au
X-WR-CALDESC:Events for Classic Motorcycle Club of Victoria Inc.
REFRESH-INTERVAL;VALUE=DURATION:PT1H
X-Robots-Tag:noindex
X-PUBLISHED-TTL:PT1H
BEGIN:VTIMEZONE
TZID:Australia/Melbourne
BEGIN:STANDARD
TZOFFSETFROM:+1100
TZOFFSETTO:+1000
TZNAME:AEST
DTSTART:20240406T160000
END:STANDARD
BEGIN:DAYLIGHT
TZOFFSETFROM:+1000
TZOFFSETTO:+1100
TZNAME:AEDT
DTSTART:20241005T160000
END:DAYLIGHT
BEGIN:STANDARD
TZOFFSETFROM:+1100
TZOFFSETTO:+1000
TZNAME:AEST
DTSTART:20250405T160000
END:STANDARD
BEGIN:DAYLIGHT
TZOFFSETFROM:+1000
TZOFFSETTO:+1100
TZNAME:AEDT
DTSTART:20251004T160000
END:DAYLIGHT
BEGIN:STANDARD
TZOFFSETFROM:+1100
TZOFFSETTO:+1000
TZNAME:AEST
DTSTART:20260404T160000
END:STANDARD
BEGIN:DAYLIGHT
TZOFFSETFROM:+1000
TZOFFSETTO:+1100
TZNAME:AEDT
DTSTART:20261003T160000
END:DAYLIGHT
BEGIN:STANDARD
TZOFFSETFROM:+1100
TZOFFSETTO:+1000
TZNAME:AEST
DTSTART:20270403T160000
END:STANDARD
BEGIN:DAYLIGHT
TZOFFSETFROM:+1000
TZOFFSETTO:+1100
TZNAME:AEDT
DTSTART:20271002T160000
END:DAYLIGHT
END:VTIMEZONE
BEGIN:VEVENT
DTSTART;TZID=Australia/Melbourne:20250805T093000
DTEND;TZID=Australia/Melbourne:20250805T170000
DTSTAMP:20260425T222342
CREATED:20250602T024721Z
LAST-MODIFIED:20250725T031903Z
UID:5979-1754386200-1754413200@cmccv.org.au
SUMMARY:Mid-week Ride
DESCRIPTION:Meet at Greensborough 9:30am for 10am start. \nMorning tea TBA. \nLunch at Lancefield. \nRide Captain – Paul Beukelman: 0406 980 279 (apprentice).
URL:https://cmccv.org.au/event/mid-week-ride-13/
CATEGORIES:Mid Week Ride
END:VEVENT
BEGIN:VEVENT
DTSTART;TZID=Australia/Melbourne:20250819T093000
DTEND;TZID=Australia/Melbourne:20250819T170000
DTSTAMP:20260425T222342
CREATED:20250602T024819Z
LAST-MODIFIED:20250808T103010Z
UID:5983-1755595800-1755622800@cmccv.org.au
SUMMARY:Mid-week ride
DESCRIPTION:Full details in August Sprocket
URL:https://cmccv.org.au/event/mid-week-ride-14/
LOCATION:Chirnside Park\, cnr Maroondah Hwy and Edward St\, Chirnside Park\, Victoria\, 3116\, Australia
CATEGORIES:Mid Week Ride
END:VEVENT
BEGIN:VEVENT
DTSTART;TZID=Australia/Melbourne:20250902T083000
DTEND;TZID=Australia/Melbourne:20250902T170000
DTSTAMP:20260425T222342
CREATED:20250725T032158Z
LAST-MODIFIED:20250819T014235Z
UID:6018-1756801800-1756832400@cmccv.org.au
SUMMARY:Midweek Ride
DESCRIPTION:Meet at Rowville 8:30am for 9am start.\nMorning tea TBA. Lunch at Kilkunda.
URL:https://cmccv.org.au/event/midweek-ride-full-details-in-august-sprocket/
CATEGORIES:Mid Week Ride
END:VEVENT
BEGIN:VEVENT
DTSTART;TZID=Australia/Melbourne:20250916T083000
DTEND;TZID=Australia/Melbourne:20250916T170000
DTSTAMP:20260425T222342
CREATED:20250725T032306Z
LAST-MODIFIED:20250905T000532Z
UID:6022-1758011400-1758042000@cmccv.org.au
SUMMARY:Midweek Ride
DESCRIPTION:Start at Chirnside Park\, meet at 8.30 for 9.00am start. Morning tea at Noojee. \nLunch at Bunyip. \nRide finishes at Gembrook. \nRide Leader – Mike Walker 0447 503 128
URL:https://cmccv.org.au/event/midweek-ride-23/
LOCATION:Chirnside Park\, cnr Maroondah Hwy and Edward St\, Chirnside Park\, Victoria\, 3116\, Australia
CATEGORIES:Mid Week Ride
END:VEVENT
BEGIN:VEVENT
DTSTART;TZID=Australia/Melbourne:20251007T083000
DTEND;TZID=Australia/Melbourne:20251007T170000
DTSTAMP:20260425T222342
CREATED:20250905T001352Z
LAST-MODIFIED:20250905T001352Z
UID:6132-1759825800-1759856400@cmccv.org.au
SUMMARY:Mid Week Ride
DESCRIPTION:Mid Week Ride – 1st Tuesday ride. \nStart Greensborough. \nRide leader John Killingsworth. \nDestination to be determined on the day.
URL:https://cmccv.org.au/event/mid-week-ride-15/
CATEGORIES:Mid Week Ride
END:VEVENT
BEGIN:VEVENT
DTSTART;TZID=Australia/Melbourne:20251021T083000
DTEND;TZID=Australia/Melbourne:20251021T170000
DTSTAMP:20260425T222342
CREATED:20250905T001630Z
LAST-MODIFIED:20251017T052311Z
UID:6138-1761035400-1761066000@cmccv.org.au
SUMMARY:Mid Week Ride
DESCRIPTION:Mid Week Ride – 3st Tuesday ride. \nStart Rowville. Meet 8:30 for 9:00 start \nRide leader John Killingsworth. \nDestination to be determined on the day.
URL:https://cmccv.org.au/event/mid-week-ride-16/
CATEGORIES:Mid Week Ride
END:VEVENT
BEGIN:VEVENT
DTSTART;TZID=Australia/Melbourne:20251104T083000
DTEND;TZID=Australia/Melbourne:20251104T170000
DTSTAMP:20260425T222342
CREATED:20250905T001757Z
LAST-MODIFIED:20250905T001757Z
UID:6142-1762245000-1762275600@cmccv.org.au
SUMMARY:Mid Week Ride
DESCRIPTION:Mid Week Ride – 1st Tuesday ride. \nStart Greensborough. \nRide leader John Killingsworth. \nDestination to be determined on the day.
URL:https://cmccv.org.au/event/mid-week-ride-17/
CATEGORIES:Mid Week Ride
END:VEVENT
BEGIN:VEVENT
DTSTART;TZID=Australia/Melbourne:20260120T083000
DTEND;TZID=Australia/Melbourne:20260120T170000
DTSTAMP:20260425T222342
CREATED:20251215T045739Z
LAST-MODIFIED:20251215T045739Z
UID:6241-1768897800-1768928400@cmccv.org.au
SUMMARY:Mid-week Ride
DESCRIPTION:Meet at Greensborough\, 8:30 for a 9am departure. Morning tea at Broadford\, lunch at Seymor\, return via Strath Creek and Whittlesea.\nRide leader Paul Clayton
URL:https://cmccv.org.au/event/mid-week-ride-18/
CATEGORIES:Mid Week Ride
ORGANIZER;CN="Paul Clayton":MAILTO:gailclayton@bigpond.com
END:VEVENT
BEGIN:VEVENT
DTSTART;TZID=Australia/Melbourne:20260203T083000
DTEND;TZID=Australia/Melbourne:20260203T170000
DTSTAMP:20260425T222342
CREATED:20251215T050137Z
LAST-MODIFIED:20251215T050137Z
UID:6249-1770107400-1770138000@cmccv.org.au
SUMMARY:Mid-week Ride
DESCRIPTION:Meet at Rowville (7-Eleven)\, 8:30 for 9am departure. Ride destination to be confirmed on the day. Ride leader John Killingsworth
URL:https://cmccv.org.au/event/mid-week-ride-19/
CATEGORIES:Mid Week Ride
END:VEVENT
BEGIN:VEVENT
DTSTART;TZID=Australia/Melbourne:20260222T083000
DTEND;TZID=Australia/Melbourne:20260222T170000
DTSTAMP:20260425T222342
CREATED:20251215T051257Z
LAST-MODIFIED:20260129T055720Z
UID:6259-1771749000-1771779600@cmccv.org.au
SUMMARY:Sunday Ride
DESCRIPTION:Meet at Greensborough\, 8.30 for 9am departure. Morning tea Lancefield\, lunch at Yea. Ride Leader John Killingsworth.
URL:https://cmccv.org.au/event/sunday-ride-24/
CATEGORIES:Mid Week Ride
END:VEVENT
BEGIN:VEVENT
DTSTART;TZID=Australia/Melbourne:20260303T083000
DTEND;TZID=Australia/Melbourne:20260303T170000
DTSTAMP:20260425T222342
CREATED:20260129T055853Z
LAST-MODIFIED:20260129T055853Z
UID:6311-1772526600-1772557200@cmccv.org.au
SUMMARY:Mid-week ride
DESCRIPTION:Meet at Chirnside Park\, 8:30 for 9am departure. Heading North East.\nRide leader John Killingsworth.
URL:https://cmccv.org.au/event/mid-week-ride-20/
LOCATION:Chirnside Park\, cnr Maroondah Hwy and Edward St\, Chirnside Park\, Victoria\, 3116\, Australia
CATEGORIES:Mid Week Ride
END:VEVENT
BEGIN:VEVENT
DTSTART;TZID=Australia/Melbourne:20260407T083000
DTEND;TZID=Australia/Melbourne:20260407T170000
DTSTAMP:20260425T222342
CREATED:20260129T060225Z
LAST-MODIFIED:20260129T060225Z
UID:6319-1775550600-1775581200@cmccv.org.au
SUMMARY:Midweek ride.
DESCRIPTION:Meet at Rowville\, 8:30am for 9:00am departure. Heading Southeast.\nRide leader John Killingsworth.
URL:https://cmccv.org.au/event/midweek-ride-24/
CATEGORIES:Mid Week Ride
END:VEVENT
BEGIN:VEVENT
DTSTART;TZID=Australia/Melbourne:20260421T083000
DTEND;TZID=Australia/Melbourne:20260421T170000
DTSTAMP:20260425T222342
CREATED:20260129T060527Z
LAST-MODIFIED:20260129T060527Z
UID:6327-1776760200-1776790800@cmccv.org.au
SUMMARY:Midweek ride.
DESCRIPTION:Meet at Greensborough 8.30 for 9am start. Morning tea at Healesville\, lunch at Gembrook.\nRide leader Paul Clayton
URL:https://cmccv.org.au/event/midweek-ride-25/
CATEGORIES:Mid Week Ride
ORGANIZER;CN="Paul Clayton":MAILTO:gailclayton@bigpond.com
END:VEVENT
BEGIN:VEVENT
DTSTART;TZID=Australia/Melbourne:20260505T083000
DTEND;TZID=Australia/Melbourne:20260505T170000
DTSTAMP:20260425T222342
CREATED:20260404T001622Z
LAST-MODIFIED:20260404T001632Z
UID:6994-1777969800-1778000400@cmccv.org.au
SUMMARY:Mid-week ride
DESCRIPTION:Mid-week ride \nRide details to be provided in April Sprocket. \nRide leader John Killingsworth
URL:https://cmccv.org.au/event/mid-week-ride-21/
CATEGORIES:Mid Week Ride
END:VEVENT
BEGIN:VEVENT
DTSTART;TZID=Australia/Melbourne:20260519T083000
DTEND;TZID=Australia/Melbourne:20260519T170000
DTSTAMP:20260425T222342
CREATED:20260404T002412Z
LAST-MODIFIED:20260404T003205Z
UID:7000-1779179400-1779210000@cmccv.org.au
SUMMARY:Mid-week Ride
DESCRIPTION:Mid-week Ride \nMeet at Greensborough\, 0830 for 9am start. \nMorning teat at Lancefield\, lunch at Glenlyon\, return via Romsey & Wallen \nRide leader Paul Clayton
URL:https://cmccv.org.au/event/mid-week-ride-22/
LOCATION:Greensborough\, EG Ampol Petrol Station\, 307 Diamond Creek Rd\, Greensborough\, Vic\, Australia
CATEGORIES:Mid Week Ride
ORGANIZER;CN="Paul Clayton":MAILTO:gailclayton@bigpond.com
END:VEVENT
BEGIN:VEVENT
DTSTART;TZID=Australia/Melbourne:20260602T083000
DTEND;TZID=Australia/Melbourne:20260602T170000
DTSTAMP:20260425T222342
CREATED:20260404T002643Z
LAST-MODIFIED:20260404T002643Z
UID:7008-1780389000-1780419600@cmccv.org.au
SUMMARY:Mid-week ride
DESCRIPTION:Mid-week ride \nRide details to be provided in May Sprocket. \nRide leader John Killingsworth
URL:https://cmccv.org.au/event/mid-week-ride-23/
CATEGORIES:Mid Week Ride
END:VEVENT
BEGIN:VEVENT
DTSTART;TZID=Australia/Melbourne:20260616T083000
DTEND;TZID=Australia/Melbourne:20260616T170000
DTSTAMP:20260425T222342
CREATED:20260404T002829Z
LAST-MODIFIED:20260404T002829Z
UID:7012-1781598600-1781629200@cmccv.org.au
SUMMARY:Mid-week ride
DESCRIPTION:Mid-week ride \nMeet at Chirnside Park\, 0830 for 9am start. \nMorning tea stop at Yea\, lunch stop at Eildon\, ride will finish at Healsville \nRide leader Paul Clayton
URL:https://cmccv.org.au/event/mid-week-ride-24/
LOCATION:Chirnside Park\, cnr Maroondah Hwy and Edward St\, Chirnside Park\, Victoria\, 3116\, Australia
CATEGORIES:Mid Week Ride
ORGANIZER;CN="Paul Clayton":MAILTO:gailclayton@bigpond.com
END:VEVENT
END:VCALENDAR