BEGIN:VCALENDAR
VERSION:2.0
PRODID:-//Classic Motorcycle Club of Victoria Inc. - ECPv6.15.20//NONSGML v1.0//EN
CALSCALE:GREGORIAN
METHOD:PUBLISH
X-ORIGINAL-URL:https://cmccv.org.au
X-WR-CALDESC:Events for Classic Motorcycle Club of Victoria Inc.
REFRESH-INTERVAL;VALUE=DURATION:PT1H
X-Robots-Tag:noindex
X-PUBLISHED-TTL:PT1H
BEGIN:VTIMEZONE
TZID:Australia/Melbourne
BEGIN:STANDARD
TZOFFSETFROM:+1100
TZOFFSETTO:+1000
TZNAME:AEST
DTSTART:20250405T160000
END:STANDARD
BEGIN:DAYLIGHT
TZOFFSETFROM:+1000
TZOFFSETTO:+1100
TZNAME:AEDT
DTSTART:20251004T160000
END:DAYLIGHT
BEGIN:STANDARD
TZOFFSETFROM:+1100
TZOFFSETTO:+1000
TZNAME:AEST
DTSTART:20260404T160000
END:STANDARD
BEGIN:DAYLIGHT
TZOFFSETFROM:+1000
TZOFFSETTO:+1100
TZNAME:AEDT
DTSTART:20261003T160000
END:DAYLIGHT
BEGIN:STANDARD
TZOFFSETFROM:+1100
TZOFFSETTO:+1000
TZNAME:AEST
DTSTART:20270403T160000
END:STANDARD
BEGIN:DAYLIGHT
TZOFFSETFROM:+1000
TZOFFSETTO:+1100
TZNAME:AEDT
DTSTART:20271002T160000
END:DAYLIGHT
END:VTIMEZONE
BEGIN:VEVENT
DTSTART;TZID=Australia/Melbourne:20260201T083000
DTEND;TZID=Australia/Melbourne:20260201T170000
DTSTAMP:20260424T030107
CREATED:20251215T050030Z
LAST-MODIFIED:20251215T050030Z
UID:6247-1769934600-1769965200@cmccv.org.au
SUMMARY:1st Sunday Geelong Ride – a combined ride with Melbourne members.
DESCRIPTION:Meeting point for Melbourne members is Coles Express Shell servo\, 26 Ailsa St South\, Laverton (just off the Princes Hwy)\, 8:30 for 9:00am departure.\nRide to meet Geelong members at APCO Service Station (13 Gisborne Rd Bacchus Marsh). Ride leader John Killingsworth.\nRide from Bacchus Marsh will leave shortly after 10:15am. Ride will go through Daylesford area with lunch at the Blackwood Hotel (Blackwood).\nRide leader Stan Rodgers
URL:https://cmccv.org.au/event/1st-sunday-geelong-ride-a-combined-ride-with-melbourne-members/
CATEGORIES:Sunday Ride
END:VEVENT
END:VCALENDAR