BEGIN:VCALENDAR
VERSION:2.0
PRODID:-//Classic Motorcycle Club of Victoria Inc. - ECPv6.15.20//NONSGML v1.0//EN
CALSCALE:GREGORIAN
METHOD:PUBLISH
X-WR-CALNAME:Classic Motorcycle Club of Victoria Inc.
X-ORIGINAL-URL:https://cmccv.org.au
X-WR-CALDESC:Events for Classic Motorcycle Club of Victoria Inc.
REFRESH-INTERVAL;VALUE=DURATION:PT1H
X-Robots-Tag:noindex
X-PUBLISHED-TTL:PT1H
BEGIN:VTIMEZONE
TZID:Australia/Melbourne
BEGIN:STANDARD
TZOFFSETFROM:+1100
TZOFFSETTO:+1000
TZNAME:AEST
DTSTART:20250405T160000
END:STANDARD
BEGIN:DAYLIGHT
TZOFFSETFROM:+1000
TZOFFSETTO:+1100
TZNAME:AEDT
DTSTART:20251004T160000
END:DAYLIGHT
BEGIN:STANDARD
TZOFFSETFROM:+1100
TZOFFSETTO:+1000
TZNAME:AEST
DTSTART:20260404T160000
END:STANDARD
BEGIN:DAYLIGHT
TZOFFSETFROM:+1000
TZOFFSETTO:+1100
TZNAME:AEDT
DTSTART:20261003T160000
END:DAYLIGHT
BEGIN:STANDARD
TZOFFSETFROM:+1100
TZOFFSETTO:+1000
TZNAME:AEST
DTSTART:20270403T160000
END:STANDARD
BEGIN:DAYLIGHT
TZOFFSETFROM:+1000
TZOFFSETTO:+1100
TZNAME:AEDT
DTSTART:20271002T160000
END:DAYLIGHT
END:VTIMEZONE
BEGIN:VEVENT
DTSTART;TZID=Australia/Melbourne:20260118T083000
DTEND;TZID=Australia/Melbourne:20260118T170000
DTSTAMP:20260424T194002
CREATED:20251215T045658Z
LAST-MODIFIED:20251215T045659Z
UID:6239-1768725000-1768755600@cmccv.org.au
SUMMARY:3rd Sunday Geelong Ride
DESCRIPTION:
URL:https://cmccv.org.au/event/3rd-sunday-geelong-ride-11/
LOCATION:Waurn Ponds\, Cnr Princes Highway & South Valley Rd\, Waurn Ponds\, 3221\, Australia
CATEGORIES:Geelong Ride,Sunday Ride
END:VEVENT
BEGIN:VEVENT
DTSTART;TZID=Australia/Melbourne:20260125T083000
DTEND;TZID=Australia/Melbourne:20260125T170000
DTSTAMP:20260424T194002
CREATED:20251215T045845Z
LAST-MODIFIED:20251215T045845Z
UID:6245-1769329800-1769360400@cmccv.org.au
SUMMARY:Sunday Ride
DESCRIPTION:Meet at Chirnside Park\, 8:30 for 9am departure. Ride destination to be confirmed on the day. Ride leader John Killingsworth.
URL:https://cmccv.org.au/event/sunday-ride-23/
LOCATION:Chirnside Park\, cnr Maroondah Hwy and Edward St\, Chirnside Park\, Victoria\, 3116\, Australia
CATEGORIES:Sunday Ride
END:VEVENT
BEGIN:VEVENT
DTSTART;TZID=Australia/Melbourne:20260201T083000
DTEND;TZID=Australia/Melbourne:20260201T170000
DTSTAMP:20260424T194002
CREATED:20251215T050030Z
LAST-MODIFIED:20251215T050030Z
UID:6247-1769934600-1769965200@cmccv.org.au
SUMMARY:1st Sunday Geelong Ride – a combined ride with Melbourne members.
DESCRIPTION:Meeting point for Melbourne members is Coles Express Shell servo\, 26 Ailsa St South\, Laverton (just off the Princes Hwy)\, 8:30 for 9:00am departure.\nRide to meet Geelong members at APCO Service Station (13 Gisborne Rd Bacchus Marsh). Ride leader John Killingsworth.\nRide from Bacchus Marsh will leave shortly after 10:15am. Ride will go through Daylesford area with lunch at the Blackwood Hotel (Blackwood).\nRide leader Stan Rodgers
URL:https://cmccv.org.au/event/1st-sunday-geelong-ride-a-combined-ride-with-melbourne-members/
CATEGORIES:Sunday Ride
END:VEVENT
BEGIN:VEVENT
DTSTART;TZID=Australia/Melbourne:20260215T083000
DTEND;TZID=Australia/Melbourne:20260215T170000
DTSTAMP:20260424T194002
CREATED:20251215T050535Z
LAST-MODIFIED:20251215T050535Z
UID:6255-1771144200-1771174800@cmccv.org.au
SUMMARY:3rd Sunday Geelong Ride
DESCRIPTION:
URL:https://cmccv.org.au/event/3rd-sunday-geelong-ride-12/
LOCATION:Waurn Ponds\, Cnr Princes Highway & South Valley Rd\, Waurn Ponds\, 3221\, Australia
CATEGORIES:Geelong Ride,Sunday Ride
END:VEVENT
BEGIN:VEVENT
DTSTART;TZID=Australia/Melbourne:20260301T083000
DTEND;TZID=Australia/Melbourne:20260301T170000
DTSTAMP:20260424T194002
CREATED:20260129T055816Z
LAST-MODIFIED:20260129T055816Z
UID:6309-1772353800-1772384400@cmccv.org.au
SUMMARY:1st Sunday Geelong Ride
DESCRIPTION:
URL:https://cmccv.org.au/event/1st-sunday-geelong-ride-12/
LOCATION:Waurn Ponds\, Cnr Princes Highway & South Valley Rd\, Waurn Ponds\, 3221\, Australia
CATEGORIES:Geelong Ride,Sunday Ride
END:VEVENT
BEGIN:VEVENT
DTSTART;TZID=Australia/Melbourne:20260322T083000
DTEND;TZID=Australia/Melbourne:20260322T170000
DTSTAMP:20260424T194002
CREATED:20260129T060059Z
LAST-MODIFIED:20260129T060059Z
UID:6315-1774168200-1774198800@cmccv.org.au
SUMMARY:Sunday Ride
DESCRIPTION:Meet at Greensborough\, 8:30 for 9am departure. Heading out west\, full details to be provided in March Sprocket.\nRide leader John Killingsworth
URL:https://cmccv.org.au/event/sunday-ride-25/
CATEGORIES:Sunday Ride
END:VEVENT
BEGIN:VEVENT
DTSTART;TZID=Australia/Melbourne:20260405T083000
DTEND;TZID=Australia/Melbourne:20260405T170000
DTSTAMP:20260424T194002
CREATED:20260129T060137Z
LAST-MODIFIED:20260129T060137Z
UID:6317-1775377800-1775408400@cmccv.org.au
SUMMARY:1st Sunday Geelong Ride
DESCRIPTION:
URL:https://cmccv.org.au/event/1st-sunday-geelong-ride-13/
LOCATION:Waurn Ponds\, Cnr Princes Highway & South Valley Rd\, Waurn Ponds\, 3221\, Australia
CATEGORIES:Geelong Ride,Sunday Ride
END:VEVENT
BEGIN:VEVENT
DTSTART;TZID=Australia/Melbourne:20260419T083000
DTEND;TZID=Australia/Melbourne:20260419T170000
DTSTAMP:20260424T194002
CREATED:20260129T060352Z
LAST-MODIFIED:20260129T060352Z
UID:6323-1776587400-1776618000@cmccv.org.au
SUMMARY:3rd Sunday Geelong Ride
DESCRIPTION:
URL:https://cmccv.org.au/event/3rd-sunday-geelong-ride-13/
LOCATION:Waurn Ponds\, Cnr Princes Highway & South Valley Rd\, Waurn Ponds\, 3221\, Australia
CATEGORIES:Geelong Ride,Sunday Ride
END:VEVENT
BEGIN:VEVENT
DTSTART;TZID=Australia/Melbourne:20260419T083000
DTEND;TZID=Australia/Melbourne:20260419T170000
DTSTAMP:20260424T194002
CREATED:20260129T060435Z
LAST-MODIFIED:20260404T001421Z
UID:6325-1776587400-1776618000@cmccv.org.au
SUMMARY:Sunday Ride – “Club Captain’s Mystery Ride”
DESCRIPTION:Sunday Ride – “Club Captain’s Mystery Ride” \nMeet at Chirnside Park\, 8:30 for 9am departure. \nThis will be a Club Captain’s Mystery Ride – follow John not out of loyalty but out of curiosity of where the ride will go! \nRide leader John Killingsworth
URL:https://cmccv.org.au/event/sunday-ride-26/
LOCATION:Chirnside Park\, cnr Maroondah Hwy and Edward St\, Chirnside Park\, Victoria\, 3116\, Australia
CATEGORIES:Sunday Ride
END:VEVENT
BEGIN:VEVENT
DTSTART;TZID=Australia/Melbourne:20260503T083000
DTEND;TZID=Australia/Melbourne:20260503T170000
DTSTAMP:20260424T194002
CREATED:20260404T001545Z
LAST-MODIFIED:20260404T001545Z
UID:6992-1777797000-1777827600@cmccv.org.au
SUMMARY:1st Sunday Geelong Ride
DESCRIPTION:
URL:https://cmccv.org.au/event/1st-sunday-geelong-ride-14/
LOCATION:Waurn Ponds\, Cnr Princes Highway & South Valley Rd\, Waurn Ponds\, 3221\, Australia
CATEGORIES:Geelong Ride,Sunday Ride
END:VEVENT
BEGIN:VEVENT
DTSTART;TZID=Australia/Melbourne:20260517T083000
DTEND;TZID=Australia/Melbourne:20260517T170000
DTSTAMP:20260424T194002
CREATED:20260404T001826Z
LAST-MODIFIED:20260404T001826Z
UID:6998-1779006600-1779037200@cmccv.org.au
SUMMARY:3rd Sunday Geelong Ride
DESCRIPTION:
URL:https://cmccv.org.au/event/3rd-sunday-geelong-ride-14/
LOCATION:Waurn Ponds\, Cnr Princes Highway & South Valley Rd\, Waurn Ponds\, 3221\, Australia
CATEGORIES:Geelong Ride,Sunday Ride
END:VEVENT
BEGIN:VEVENT
DTSTART;TZID=Australia/Melbourne:20260517T090000
DTEND;TZID=Australia/Melbourne:20260517T170000
DTSTAMP:20260424T194002
CREATED:20260404T001747Z
LAST-MODIFIED:20260404T001747Z
UID:6996-1779008400-1779037200@cmccv.org.au
SUMMARY:Tooborac Hotel – National Motoring Heritage Day (NMHD)
DESCRIPTION:Tooborac Hotel – National Motoring Heritage Day (NMHD) \nMeet at Greensborough at 9.00 for 9.30am departure to the bike \ndisplay and lunch at The Tooborac Hotel & Brewery to support the \nAOMC’s NMHD. Full details in this Sprocket. \nRide Leader John Killingsworth
URL:https://cmccv.org.au/event/tooborac-hotel-national-motoring-heritage-day-nmhd/
CATEGORIES:Club Event,Sunday Ride
END:VEVENT
BEGIN:VEVENT
DTSTART;TZID=Australia/Melbourne:20260524T083000
DTEND;TZID=Australia/Melbourne:20260524T170000
DTSTAMP:20260424T194002
CREATED:20260404T002558Z
LAST-MODIFIED:20260404T002558Z
UID:7006-1779611400-1779642000@cmccv.org.au
SUMMARY:Sunday ride
DESCRIPTION:Sunday ride – details to be provided in May Sprocket.
URL:https://cmccv.org.au/event/sunday-ride-27/
CATEGORIES:Sunday Ride
END:VEVENT
BEGIN:VEVENT
DTSTART;TZID=Australia/Melbourne:20260607T083000
DTEND;TZID=Australia/Melbourne:20260607T170000
DTSTAMP:20260424T194002
CREATED:20260404T002723Z
LAST-MODIFIED:20260418T023248Z
UID:7010-1780821000-1780851600@cmccv.org.au
SUMMARY:1st Sunday Geelong Ride
DESCRIPTION:1st Sunday Geelong Ride
URL:https://cmccv.org.au/event/7010/
LOCATION:Waurn Ponds\, Cnr Princes Highway & South Valley Rd\, Waurn Ponds\, 3221\, Australia
CATEGORIES:Geelong Ride,Sunday Ride
END:VEVENT
BEGIN:VEVENT
DTSTART;TZID=Australia/Melbourne:20260621T083000
DTEND;TZID=Australia/Melbourne:20260621T170000
DTSTAMP:20260424T194002
CREATED:20260404T002955Z
LAST-MODIFIED:20260404T002955Z
UID:7016-1782030600-1782061200@cmccv.org.au
SUMMARY:3rd Sunday Geelong Ride
DESCRIPTION:
URL:https://cmccv.org.au/event/3rd-sunday-geelong-ride-15/
LOCATION:Waurn Ponds\, Cnr Princes Highway & South Valley Rd\, Waurn Ponds\, 3221\, Australia
CATEGORIES:Geelong Ride,Sunday Ride
END:VEVENT
BEGIN:VEVENT
DTSTART;TZID=Australia/Melbourne:20260621T083000
DTEND;TZID=Australia/Melbourne:20260621T170000
DTSTAMP:20260424T194002
CREATED:20260404T003111Z
LAST-MODIFIED:20260404T003111Z
UID:7018-1782030600-1782061200@cmccv.org.au
SUMMARY:Sunday ride
DESCRIPTION:Sunday ride – details to be provided in Jun Sprocket. \nRide leader John Killingsworth
URL:https://cmccv.org.au/event/sunday-ride-28/
CATEGORIES:Sunday Ride
END:VEVENT
END:VCALENDAR